BEGIN:VCALENDAR
VERSION:2.0
PRODID:-//Tännäskröket - ECPv6.15.17//NONSGML v1.0//EN
CALSCALE:GREGORIAN
METHOD:PUBLISH
X-WR-CALNAME:Tännäskröket
X-ORIGINAL-URL:https://tannaskroket.se/de
X-WR-CALDESC:Veranstaltungen für Tännäskröket
REFRESH-INTERVAL;VALUE=DURATION:PT1H
X-Robots-Tag:noindex
X-PUBLISHED-TTL:PT1H
BEGIN:VTIMEZONE
TZID:Europe/Stockholm
BEGIN:DAYLIGHT
TZOFFSETFROM:+0100
TZOFFSETTO:+0200
TZNAME:CEST
DTSTART:20250330T010000
END:DAYLIGHT
BEGIN:STANDARD
TZOFFSETFROM:+0200
TZOFFSETTO:+0100
TZNAME:CET
DTSTART:20251026T010000
END:STANDARD
BEGIN:DAYLIGHT
TZOFFSETFROM:+0100
TZOFFSETTO:+0200
TZNAME:CEST
DTSTART:20260329T010000
END:DAYLIGHT
BEGIN:STANDARD
TZOFFSETFROM:+0200
TZOFFSETTO:+0100
TZNAME:CET
DTSTART:20261025T010000
END:STANDARD
BEGIN:DAYLIGHT
TZOFFSETFROM:+0100
TZOFFSETTO:+0200
TZNAME:CEST
DTSTART:20270328T010000
END:DAYLIGHT
BEGIN:STANDARD
TZOFFSETFROM:+0200
TZOFFSETTO:+0100
TZNAME:CET
DTSTART:20271031T010000
END:STANDARD
END:VTIMEZONE
BEGIN:VEVENT
DTSTART;TZID=Europe/Stockholm:20260123T141500
DTEND;TZID=Europe/Stockholm:20260123T150000
DTSTAMP:20260422T204548
CREATED:20251009T093746Z
LAST-MODIFIED:20251009T095806Z
UID:17741-1769177700-1769180400@tannaskroket.se
SUMMARY:Maltes skidtävling
DESCRIPTION:Skidtävling för alla barn i alla åldrar tillsammans med Malte.\n50:-\, men gratis för alla som deltagit i veckans skidskola. \nAnmälan i receptionen senast dagen före.\nReceptionen har öppet dagligen kl. 09.00-16.30. \n 
URL:https://tannaskroket.se/de/event/maltes-skidtavling-37/
LOCATION:Restaurang Arran\, Karl Johans väg 1\, Tännäs\, Härjedalen\, 846 95\, Sverige
ATTACH;FMTTYPE=image/jpeg:https://tannaskroket.se/wp-content/uploads/2020/08/276-scaled.jpg
ORGANIZER;CN="Restaurang Arran":MAILTO:restaurang@tannaskroket.se
END:VEVENT
BEGIN:VEVENT
DTSTART;TZID=Europe/Stockholm:20260123T173000
DTEND;TZID=Europe/Stockholm:20260123T210000
DTSTAMP:20260422T204548
CREATED:20251009T132218Z
LAST-MODIFIED:20251009T132218Z
UID:17788-1769189400-1769202000@tannaskroket.se
SUMMARY:Pizzakväll
DESCRIPTION:Varje fredag under vintersäsongen \, 26/12- 10/4\, står Arrans pizzabuffé uppdukad från 17.30\nPopulärt för såväl stora som små.\n\n\n\n\n\n\n  \nBuffén står uppdukad från 17.30. Glutenfria pizzor finns. \nHar ni frågor\, eller vill meddela oss om kostavvikelser kontakta oss på 0684-240 00 eller bokning@tannaskroket.se \nVarmt Välkomna! \n\n\n\n 
URL:https://tannaskroket.se/de/event/pizzakvall-25/
LOCATION:Restaurang Arran\, Karl Johans väg 1\, Tännäs\, Härjedalen\, 846 95\, Sverige
ATTACH;FMTTYPE=image/jpeg:https://tannaskroket.se/wp-content/uploads/2024/06/pizza-kopia.jpg
ORGANIZER;CN="Restaurang Arran":MAILTO:restaurang@tannaskroket.se
END:VEVENT
END:VCALENDAR