BEGIN:VCALENDAR
VERSION:2.0
PRODID:-//Tännäskröket - ECPv6.15.17//NONSGML v1.0//EN
CALSCALE:GREGORIAN
METHOD:PUBLISH
X-ORIGINAL-URL:https://tannaskroket.se/de
X-WR-CALDESC:Veranstaltungen für Tännäskröket
REFRESH-INTERVAL;VALUE=DURATION:PT1H
X-Robots-Tag:noindex
X-PUBLISHED-TTL:PT1H
BEGIN:VTIMEZONE
TZID:Europe/Stockholm
BEGIN:DAYLIGHT
TZOFFSETFROM:+0100
TZOFFSETTO:+0200
TZNAME:CEST
DTSTART:20250330T010000
END:DAYLIGHT
BEGIN:STANDARD
TZOFFSETFROM:+0200
TZOFFSETTO:+0100
TZNAME:CET
DTSTART:20251026T010000
END:STANDARD
BEGIN:DAYLIGHT
TZOFFSETFROM:+0100
TZOFFSETTO:+0200
TZNAME:CEST
DTSTART:20260329T010000
END:DAYLIGHT
BEGIN:STANDARD
TZOFFSETFROM:+0200
TZOFFSETTO:+0100
TZNAME:CET
DTSTART:20261025T010000
END:STANDARD
BEGIN:DAYLIGHT
TZOFFSETFROM:+0100
TZOFFSETTO:+0200
TZNAME:CEST
DTSTART:20270328T010000
END:DAYLIGHT
BEGIN:STANDARD
TZOFFSETFROM:+0200
TZOFFSETTO:+0100
TZNAME:CET
DTSTART:20271031T010000
END:STANDARD
END:VTIMEZONE
BEGIN:VEVENT
DTSTART;TZID=Europe/Stockholm:20260218T110000
DTEND;TZID=Europe/Stockholm:20260218T113000
DTSTAMP:20260422T150007
CREATED:20251105T091136Z
LAST-MODIFIED:20251105T091136Z
UID:18507-1771412400-1771414200@tannaskroket.se
SUMMARY:Tolkning från Norrsia
DESCRIPTION:Upplev Norrsia på skidor eller bräda.\nVi tolkar er därefter tillbaka från den gamla liftstationen kl. 11.00 eller 15.30 beroende på vilken tid du väljer.
URL:https://tannaskroket.se/de/event/tolkning-fran-norrsia-90/
LOCATION:Tännäskröket\, Karl Johan väg 1\, Tännäs\, Härjedalen\, 846 95\, Sverige
ATTACH;FMTTYPE=image/jpeg:https://tannaskroket.se/wp-content/uploads/2022/02/259-scaled.jpg
ORGANIZER;CN="T%C3%A4nn%C3%A4skr%C3%B6ket":MAILTO:bokning@tannaskroket.se
END:VEVENT
BEGIN:VEVENT
DTSTART;TZID=Europe/Stockholm:20260218T132000
DTEND;TZID=Europe/Stockholm:20260218T135000
DTSTAMP:20260422T150007
CREATED:20251009T092436Z
LAST-MODIFIED:20251009T095426Z
UID:17687-1771420800-1771422600@tannaskroket.se
SUMMARY:Miniskoter för barn
DESCRIPTION:Kom och kör miniskoter en kul upplevelse för alla som behöver en paus från skidåkningen.\nFörboka gärna i receptionen innan och det går att boka fram till 30 min innan start.\nFrån 7 år. \nReceptionen har öppet 09.00 – 16.30.
URL:https://tannaskroket.se/de/event/miniskoter-for-barn-88/
LOCATION:Restaurang Arran\, Karl Johans väg 1\, Tännäs\, Härjedalen\, 846 95\, Sverige
ATTACH;FMTTYPE=image/jpeg:https://tannaskroket.se/wp-content/uploads/2022/11/62-scaled-e1705654788704.jpg
ORGANIZER;CN="T%C3%A4nn%C3%A4skr%C3%B6ket":MAILTO:bokning@tannaskroket.se
END:VEVENT
BEGIN:VEVENT
DTSTART;TZID=Europe/Stockholm:20260218T140000
DTEND;TZID=Europe/Stockholm:20260218T160000
DTSTAMP:20260422T150007
CREATED:20260206T065501Z
LAST-MODIFIED:20260206T065501Z
UID:19057-1771423200-1771430400@tannaskroket.se
SUMMARY:Offpistguidning i grupp
DESCRIPTION:Häng med en av Krökets mesta offpiståkare på två härliga timmar av det bästa vi har utanför pisterna.\nSom avslutning kör ni ner Norrsia och tolkar bakom skoter tillbaka. \nOBS! Minst 6 personer 395kr/person. \nBoka offpistguidning här eller kontakta receptionen under ordinarie öppettider
URL:https://tannaskroket.se/de/event/offpistguidning-i-grupp-8/
LOCATION:Tännäskröket\, Karl Johan väg 1\, Tännäs\, Härjedalen\, 846 95\, Sverige
ATTACH;FMTTYPE=image/jpeg:https://tannaskroket.se/wp-content/uploads/2023/10/MG_6687-scaled.jpg
ORGANIZER;CN="T%C3%A4nn%C3%A4skr%C3%B6ket":MAILTO:bokning@tannaskroket.se
END:VEVENT
BEGIN:VEVENT
DTSTART;TZID=Europe/Stockholm:20260218T153000
DTEND;TZID=Europe/Stockholm:20260218T160000
DTSTAMP:20260422T150007
CREATED:20251105T091122Z
LAST-MODIFIED:20251105T091122Z
UID:18505-1771428600-1771430400@tannaskroket.se
SUMMARY:Tolkning från Norrsia
DESCRIPTION:Upplev Norrsia på skidor eller bräda.\nVi tolkar er därefter tillbaka från den gamla liftstationen kl. 11.00 eller 15.30 beroende på vilken tid du väljer.
URL:https://tannaskroket.se/de/event/tolkning-fran-norrsia-89/
LOCATION:Tännäskröket\, Karl Johan väg 1\, Tännäs\, Härjedalen\, 846 95\, Sverige
ATTACH;FMTTYPE=image/jpeg:https://tannaskroket.se/wp-content/uploads/2022/02/259-scaled.jpg
ORGANIZER;CN="T%C3%A4nn%C3%A4skr%C3%B6ket":MAILTO:bokning@tannaskroket.se
END:VEVENT
END:VCALENDAR