BEGIN:VCALENDAR
VERSION:2.0
PRODID:-//Tännäskröket - ECPv6.15.17//NONSGML v1.0//EN
CALSCALE:GREGORIAN
METHOD:PUBLISH
X-WR-CALNAME:Tännäskröket
X-ORIGINAL-URL:https://tannaskroket.se/de
X-WR-CALDESC:Veranstaltungen für Tännäskröket
REFRESH-INTERVAL;VALUE=DURATION:PT1H
X-Robots-Tag:noindex
X-PUBLISHED-TTL:PT1H
BEGIN:VTIMEZONE
TZID:Europe/Stockholm
BEGIN:DAYLIGHT
TZOFFSETFROM:+0100
TZOFFSETTO:+0200
TZNAME:CEST
DTSTART:20250330T010000
END:DAYLIGHT
BEGIN:STANDARD
TZOFFSETFROM:+0200
TZOFFSETTO:+0100
TZNAME:CET
DTSTART:20251026T010000
END:STANDARD
BEGIN:DAYLIGHT
TZOFFSETFROM:+0100
TZOFFSETTO:+0200
TZNAME:CEST
DTSTART:20260329T010000
END:DAYLIGHT
BEGIN:STANDARD
TZOFFSETFROM:+0200
TZOFFSETTO:+0100
TZNAME:CET
DTSTART:20261025T010000
END:STANDARD
BEGIN:DAYLIGHT
TZOFFSETFROM:+0100
TZOFFSETTO:+0200
TZNAME:CEST
DTSTART:20270328T010000
END:DAYLIGHT
BEGIN:STANDARD
TZOFFSETFROM:+0200
TZOFFSETTO:+0100
TZNAME:CET
DTSTART:20271031T010000
END:STANDARD
END:VTIMEZONE
BEGIN:VEVENT
DTSTART;TZID=Europe/Stockholm:20260225T093000
DTEND;TZID=Europe/Stockholm:20260225T130000
DTSTAMP:20260422T165116
CREATED:20230109T124948Z
LAST-MODIFIED:20260225T102429Z
UID:9554-1772011800-1772024400@tannaskroket.se
SUMMARY:Skidtest  med Elan
DESCRIPTION:Skidtest med Elan\, vi finns på plats utanför restaurang Àrran från när backarna öppnar och fram till kl. 13.00\nKom till och hitta och testa dina nya favoriter! \nTillsammans med: Elan och Sportladan
URL:https://tannaskroket.se/de/event/skid-kladtest-med-elan-2117-of-sweden/
LOCATION:Tännäskröket\, Karl Johan väg 1\, Tännäs\, Härjedalen\, 846 95\, Sverige
ATTACH;FMTTYPE=image/jpeg:https://tannaskroket.se/wp-content/uploads/2023/01/20230223_124007-scaled.jpg
ORGANIZER;CN="Sportladan":MAILTO:info@sportladan.se
END:VEVENT
BEGIN:VEVENT
DTSTART;TZID=Europe/Stockholm:20260225T110000
DTEND;TZID=Europe/Stockholm:20260225T113000
DTSTAMP:20260422T165116
CREATED:20251105T091250Z
LAST-MODIFIED:20251105T091250Z
UID:18517-1772017200-1772019000@tannaskroket.se
SUMMARY:Tolkning från Norrsia
DESCRIPTION:Upplev Norrsia på skidor eller bräda.\nVi tolkar er därefter tillbaka från den gamla liftstationen kl. 11.00 eller 15.30 beroende på vilken tid du väljer.
URL:https://tannaskroket.se/de/event/tolkning-fran-norrsia-95/
LOCATION:Tännäskröket\, Karl Johan väg 1\, Tännäs\, Härjedalen\, 846 95\, Sverige
ATTACH;FMTTYPE=image/jpeg:https://tannaskroket.se/wp-content/uploads/2022/02/259-scaled.jpg
ORGANIZER;CN="T%C3%A4nn%C3%A4skr%C3%B6ket":MAILTO:bokning@tannaskroket.se
END:VEVENT
BEGIN:VEVENT
DTSTART;TZID=Europe/Stockholm:20260225T132000
DTEND;TZID=Europe/Stockholm:20260225T135000
DTSTAMP:20260422T165116
CREATED:20251009T092543Z
LAST-MODIFIED:20251009T095315Z
UID:17695-1772025600-1772027400@tannaskroket.se
SUMMARY:Miniskoter för barn
DESCRIPTION:Kom och kör miniskoter en kul upplevelse för alla som behöver en paus från skidåkningen.\nFörboka gärna i receptionen innan och det går att boka fram till 30 min innan start.\nFrån 7 år. \nReceptionen har öppet 09.00 – 16.30.
URL:https://tannaskroket.se/de/event/miniskoter-for-barn-92/
LOCATION:Restaurang Arran\, Karl Johans väg 1\, Tännäs\, Härjedalen\, 846 95\, Sverige
ATTACH;FMTTYPE=image/jpeg:https://tannaskroket.se/wp-content/uploads/2022/11/62-scaled-e1705654788704.jpg
ORGANIZER;CN="T%C3%A4nn%C3%A4skr%C3%B6ket":MAILTO:bokning@tannaskroket.se
END:VEVENT
BEGIN:VEVENT
DTSTART;TZID=Europe/Stockholm:20260225T140000
DTEND;TZID=Europe/Stockholm:20260225T160000
DTSTAMP:20260422T165116
CREATED:20260206T065605Z
LAST-MODIFIED:20260206T065605Z
UID:19059-1772028000-1772035200@tannaskroket.se
SUMMARY:Offpistguidning i grupp
DESCRIPTION:Häng med en av Krökets mesta offpiståkare på två härliga timmar av det bästa vi har utanför pisterna.\nSom avslutning kör ni ner Norrsia och tolkar bakom skoter tillbaka. \nOBS! Minst 6 personer 395kr/person. \nBoka offpistguidning här eller kontakta receptionen under ordinarie öppettider
URL:https://tannaskroket.se/de/event/offpistguidning-i-grupp-9/
LOCATION:Tännäskröket\, Karl Johan väg 1\, Tännäs\, Härjedalen\, 846 95\, Sverige
ATTACH;FMTTYPE=image/jpeg:https://tannaskroket.se/wp-content/uploads/2023/10/MG_6687-scaled.jpg
ORGANIZER;CN="T%C3%A4nn%C3%A4skr%C3%B6ket":MAILTO:bokning@tannaskroket.se
END:VEVENT
BEGIN:VEVENT
DTSTART;TZID=Europe/Stockholm:20260225T153000
DTEND;TZID=Europe/Stockholm:20260225T160000
DTSTAMP:20260422T165116
CREATED:20251105T091305Z
LAST-MODIFIED:20251105T091305Z
UID:18519-1772033400-1772035200@tannaskroket.se
SUMMARY:Tolkning från Norrsia
DESCRIPTION:Upplev Norrsia på skidor eller bräda.\nVi tolkar er därefter tillbaka från den gamla liftstationen kl. 11.00 eller 15.30 beroende på vilken tid du väljer.
URL:https://tannaskroket.se/de/event/tolkning-fran-norrsia-96/
LOCATION:Tännäskröket\, Karl Johan väg 1\, Tännäs\, Härjedalen\, 846 95\, Sverige
ATTACH;FMTTYPE=image/jpeg:https://tannaskroket.se/wp-content/uploads/2022/02/259-scaled.jpg
ORGANIZER;CN="T%C3%A4nn%C3%A4skr%C3%B6ket":MAILTO:bokning@tannaskroket.se
END:VEVENT
END:VCALENDAR