BEGIN:VCALENDAR
VERSION:2.0
PRODID:-//Tännäskröket - ECPv6.15.17//NONSGML v1.0//EN
CALSCALE:GREGORIAN
METHOD:PUBLISH
X-ORIGINAL-URL:https://tannaskroket.se
X-WR-CALDESC:Händelser för Tännäskröket
REFRESH-INTERVAL;VALUE=DURATION:PT1H
X-Robots-Tag:noindex
X-PUBLISHED-TTL:PT1H
BEGIN:VTIMEZONE
TZID:Europe/Stockholm
BEGIN:DAYLIGHT
TZOFFSETFROM:+0100
TZOFFSETTO:+0200
TZNAME:CEST
DTSTART:20250330T010000
END:DAYLIGHT
BEGIN:STANDARD
TZOFFSETFROM:+0200
TZOFFSETTO:+0100
TZNAME:CET
DTSTART:20251026T010000
END:STANDARD
BEGIN:DAYLIGHT
TZOFFSETFROM:+0100
TZOFFSETTO:+0200
TZNAME:CEST
DTSTART:20260329T010000
END:DAYLIGHT
BEGIN:STANDARD
TZOFFSETFROM:+0200
TZOFFSETTO:+0100
TZNAME:CET
DTSTART:20261025T010000
END:STANDARD
BEGIN:DAYLIGHT
TZOFFSETFROM:+0100
TZOFFSETTO:+0200
TZNAME:CEST
DTSTART:20270328T010000
END:DAYLIGHT
BEGIN:STANDARD
TZOFFSETFROM:+0200
TZOFFSETTO:+0100
TZNAME:CET
DTSTART:20271031T010000
END:STANDARD
END:VTIMEZONE
BEGIN:VEVENT
DTSTART;TZID=Europe/Stockholm:20260224T110000
DTEND;TZID=Europe/Stockholm:20260224T113000
DTSTAMP:20260422T135412
CREATED:20251105T091239Z
LAST-MODIFIED:20251105T091239Z
UID:18515-1771930800-1771932600@tannaskroket.se
SUMMARY:Tolkning från Norrsia
DESCRIPTION:Upplev Norrsia på skidor eller bräda.\nVi tolkar er därefter tillbaka från den gamla liftstationen kl. 11.00 eller 15.30 beroende på vilken tid du väljer.
URL:https://tannaskroket.se/event/tolkning-fran-norrsia-94/
LOCATION:Tännäskröket\, Karl Johan väg 1\, Tännäs\, Härjedalen\, 846 95\, Sverige
ATTACH;FMTTYPE=image/jpeg:https://tannaskroket.se/wp-content/uploads/2022/02/259-scaled.jpg
ORGANIZER;CN="T%C3%A4nn%C3%A4skr%C3%B6ket":MAILTO:bokning@tannaskroket.se
END:VEVENT
BEGIN:VEVENT
DTSTART;TZID=Europe/Stockholm:20260224T123000
DTEND;TZID=Europe/Stockholm:20260224T134500
DTSTAMP:20260422T135412
CREATED:20260206T071548Z
LAST-MODIFIED:20260206T071548Z
UID:19074-1771936200-1771940700@tannaskroket.se
SUMMARY:Skogslek
DESCRIPTION:Häng med på ett spännande äventyr i skogen\, lär dig hoppa och åka mer med teknik. \nSkogslek är för alla mellaln 10-15 år som är trygga med att åka röda backar\, har provat börja köra utanför pisterna och tränar på de första tricksen i parken. \nSkogslek är 3 dagar efter varandra\, startar tisdag 12.30 och är 75 minuter lång. \nKostnad: 995:-/deltagare \nBoka här eller prata med oss i receptionen under ordinarie öppettider så hjälper vi dig
URL:https://tannaskroket.se/event/skogslek-3/
ATTACH;FMTTYPE=image/jpeg:https://tannaskroket.se/wp-content/uploads/2026/01/tannask22-scaled.jpg
END:VEVENT
BEGIN:VEVENT
DTSTART;TZID=Europe/Stockholm:20260224T132000
DTEND;TZID=Europe/Stockholm:20260224T134000
DTSTAMP:20260422T135412
CREATED:20260127T145955Z
LAST-MODIFIED:20260127T145955Z
UID:19009-1771939200-1771940400@tannaskroket.se
SUMMARY:Malte Myskoxe hälsar på
DESCRIPTION:Malte Myskoxe hälsar på! Lek och bus med alla kompisarna står på schemat. \nAlla åldrar är välkomna och aktiviteten är kostnadsfri. \n”Hoppas vi ses\, det blir buskul”\, hälsar Malte!
URL:https://tannaskroket.se/event/malte-myskoxe-halsar-pa-4/
LOCATION:Tännäskröket\, Karl Johan väg 1\, Tännäs\, Härjedalen\, 846 95\, Sverige
ATTACH;FMTTYPE=image/jpeg:https://tannaskroket.se/wp-content/uploads/2026/01/276-scaled.jpg
END:VEVENT
BEGIN:VEVENT
DTSTART;TZID=Europe/Stockholm:20260224T153000
DTEND;TZID=Europe/Stockholm:20260224T160000
DTSTAMP:20260422T135412
CREATED:20251105T091226Z
LAST-MODIFIED:20251105T091226Z
UID:18513-1771947000-1771948800@tannaskroket.se
SUMMARY:Tolkning från Norrsia
DESCRIPTION:Upplev Norrsia på skidor eller bräda.\nVi tolkar er därefter tillbaka från den gamla liftstationen kl. 11.00 eller 15.30 beroende på vilken tid du väljer.
URL:https://tannaskroket.se/event/tolkning-fran-norrsia-93/
LOCATION:Tännäskröket\, Karl Johan väg 1\, Tännäs\, Härjedalen\, 846 95\, Sverige
ATTACH;FMTTYPE=image/jpeg:https://tannaskroket.se/wp-content/uploads/2022/02/259-scaled.jpg
ORGANIZER;CN="T%C3%A4nn%C3%A4skr%C3%B6ket":MAILTO:bokning@tannaskroket.se
END:VEVENT
BEGIN:VEVENT
DTSTART;TZID=Europe/Stockholm:20260224T180000
DTEND;TZID=Europe/Stockholm:20260224T200000
DTSTAMP:20260422T135412
CREATED:20260206T070155Z
LAST-MODIFIED:20260206T070155Z
UID:19066-1771956000-1771963200@tannaskroket.se
SUMMARY:Kvällsskidåkning
DESCRIPTION:Välkomna till Funäsfjällens mysigaste kvällsskidåkning. \nHemliften och Barnliften snurrar 18:00-20:00.
URL:https://tannaskroket.se/event/kvallsskidakning-27/
LOCATION:Tännäskröket\, Karl Johan väg 1\, Tännäs\, Härjedalen\, 846 95\, Sverige
ATTACH;FMTTYPE=image/jpeg:https://tannaskroket.se/wp-content/uploads/2022/10/MAR_5932-scaled.jpg
ORGANIZER;CN="T%C3%A4nn%C3%A4skr%C3%B6ket":MAILTO:bokning@tannaskroket.se
END:VEVENT
END:VCALENDAR