BEGIN:VCALENDAR
VERSION:2.0
PRODID:-//Tännäskröket - ECPv6.15.17//NONSGML v1.0//EN
CALSCALE:GREGORIAN
METHOD:PUBLISH
X-WR-CALNAME:Tännäskröket
X-ORIGINAL-URL:https://tannaskroket.se
X-WR-CALDESC:Händelser för Tännäskröket
REFRESH-INTERVAL;VALUE=DURATION:PT1H
X-Robots-Tag:noindex
X-PUBLISHED-TTL:PT1H
BEGIN:VTIMEZONE
TZID:Europe/Stockholm
BEGIN:DAYLIGHT
TZOFFSETFROM:+0100
TZOFFSETTO:+0200
TZNAME:CEST
DTSTART:20250330T010000
END:DAYLIGHT
BEGIN:STANDARD
TZOFFSETFROM:+0200
TZOFFSETTO:+0100
TZNAME:CET
DTSTART:20251026T010000
END:STANDARD
BEGIN:DAYLIGHT
TZOFFSETFROM:+0100
TZOFFSETTO:+0200
TZNAME:CEST
DTSTART:20260329T010000
END:DAYLIGHT
BEGIN:STANDARD
TZOFFSETFROM:+0200
TZOFFSETTO:+0100
TZNAME:CET
DTSTART:20261025T010000
END:STANDARD
BEGIN:DAYLIGHT
TZOFFSETFROM:+0100
TZOFFSETTO:+0200
TZNAME:CEST
DTSTART:20270328T010000
END:DAYLIGHT
BEGIN:STANDARD
TZOFFSETFROM:+0200
TZOFFSETTO:+0100
TZNAME:CET
DTSTART:20271031T010000
END:STANDARD
END:VTIMEZONE
BEGIN:VEVENT
DTSTART;TZID=Europe/Stockholm:20260227T110000
DTEND;TZID=Europe/Stockholm:20260227T113000
DTSTAMP:20260422T135150
CREATED:20251105T091330Z
LAST-MODIFIED:20251105T091330Z
UID:18523-1772190000-1772191800@tannaskroket.se
SUMMARY:Tolkning från Norrsia
DESCRIPTION:Upplev Norrsia på skidor eller bräda.\nVi tolkar er därefter tillbaka från den gamla liftstationen kl. 11.00 eller 15.30 beroende på vilken tid du väljer.
URL:https://tannaskroket.se/event/tolkning-fran-norrsia-98/
LOCATION:Tännäskröket\, Karl Johan väg 1\, Tännäs\, Härjedalen\, 846 95\, Sverige
ATTACH;FMTTYPE=image/jpeg:https://tannaskroket.se/wp-content/uploads/2022/02/259-scaled.jpg
ORGANIZER;CN="T%C3%A4nn%C3%A4skr%C3%B6ket":MAILTO:bokning@tannaskroket.se
END:VEVENT
BEGIN:VEVENT
DTSTART;TZID=Europe/Stockholm:20260227T141500
DTEND;TZID=Europe/Stockholm:20260227T150000
DTSTAMP:20260422T135150
CREATED:20251009T093904Z
LAST-MODIFIED:20251009T095244Z
UID:17751-1772201700-1772204400@tannaskroket.se
SUMMARY:Maltes skidtävling
DESCRIPTION:Skidtävling för alla barn i alla åldrar tillsammans med Malte.\n50:-\, men gratis för alla som deltagit i veckans skidskola. \nAnmälan i receptionen senast dagen före.\nReceptionen har öppet dagligen kl. 09.00-16.30. \n 
URL:https://tannaskroket.se/event/maltes-skidtavling-42/
LOCATION:Restaurang Arran\, Karl Johans väg 1\, Tännäs\, Härjedalen\, 846 95\, Sverige
ATTACH;FMTTYPE=image/jpeg:https://tannaskroket.se/wp-content/uploads/2020/08/276-scaled.jpg
ORGANIZER;CN="Restaurang Arran":MAILTO:restaurang@tannaskroket.se
END:VEVENT
BEGIN:VEVENT
DTSTART;TZID=Europe/Stockholm:20260227T153000
DTEND;TZID=Europe/Stockholm:20260227T160000
DTSTAMP:20260422T135150
CREATED:20251105T091316Z
LAST-MODIFIED:20251105T091316Z
UID:18521-1772206200-1772208000@tannaskroket.se
SUMMARY:Tolkning från Norrsia
DESCRIPTION:Upplev Norrsia på skidor eller bräda.\nVi tolkar er därefter tillbaka från den gamla liftstationen kl. 11.00 eller 15.30 beroende på vilken tid du väljer.
URL:https://tannaskroket.se/event/tolkning-fran-norrsia-97/
LOCATION:Tännäskröket\, Karl Johan väg 1\, Tännäs\, Härjedalen\, 846 95\, Sverige
ATTACH;FMTTYPE=image/jpeg:https://tannaskroket.se/wp-content/uploads/2022/02/259-scaled.jpg
ORGANIZER;CN="T%C3%A4nn%C3%A4skr%C3%B6ket":MAILTO:bokning@tannaskroket.se
END:VEVENT
BEGIN:VEVENT
DTSTART;TZID=Europe/Stockholm:20260227T173000
DTEND;TZID=Europe/Stockholm:20260227T210000
DTSTAMP:20260422T135150
CREATED:20251009T132507Z
LAST-MODIFIED:20251009T132507Z
UID:17798-1772213400-1772226000@tannaskroket.se
SUMMARY:Pizzakväll
DESCRIPTION:Varje fredag under vintersäsongen \, 26/12- 10/4\, står Arrans pizzabuffé uppdukad från 17.30\nPopulärt för såväl stora som små.\n\n\n\n\n\n\n  \nBuffén står uppdukad från 17.30. Glutenfria pizzor finns. \nHar ni frågor\, eller vill meddela oss om kostavvikelser kontakta oss på 0684-240 00 eller bokning@tannaskroket.se \nVarmt Välkomna! \n\n\n\n 
URL:https://tannaskroket.se/event/pizzakvall-30/
LOCATION:Restaurang Arran\, Karl Johans väg 1\, Tännäs\, Härjedalen\, 846 95\, Sverige
ATTACH;FMTTYPE=image/jpeg:https://tannaskroket.se/wp-content/uploads/2024/06/pizza-kopia.jpg
ORGANIZER;CN="Restaurang Arran":MAILTO:restaurang@tannaskroket.se
END:VEVENT
END:VCALENDAR