BEGIN:VCALENDAR
VERSION:2.0
PRODID:-//Tännäskröket - ECPv6.15.17//NONSGML v1.0//EN
CALSCALE:GREGORIAN
METHOD:PUBLISH
X-ORIGINAL-URL:https://tannaskroket.se
X-WR-CALDESC:Händelser för Tännäskröket
REFRESH-INTERVAL;VALUE=DURATION:PT1H
X-Robots-Tag:noindex
X-PUBLISHED-TTL:PT1H
BEGIN:VTIMEZONE
TZID:Europe/Stockholm
BEGIN:DAYLIGHT
TZOFFSETFROM:+0100
TZOFFSETTO:+0200
TZNAME:CEST
DTSTART:20250330T010000
END:DAYLIGHT
BEGIN:STANDARD
TZOFFSETFROM:+0200
TZOFFSETTO:+0100
TZNAME:CET
DTSTART:20251026T010000
END:STANDARD
BEGIN:DAYLIGHT
TZOFFSETFROM:+0100
TZOFFSETTO:+0200
TZNAME:CEST
DTSTART:20260329T010000
END:DAYLIGHT
BEGIN:STANDARD
TZOFFSETFROM:+0200
TZOFFSETTO:+0100
TZNAME:CET
DTSTART:20261025T010000
END:STANDARD
BEGIN:DAYLIGHT
TZOFFSETFROM:+0100
TZOFFSETTO:+0200
TZNAME:CEST
DTSTART:20270328T010000
END:DAYLIGHT
BEGIN:STANDARD
TZOFFSETFROM:+0200
TZOFFSETTO:+0100
TZNAME:CET
DTSTART:20271031T010000
END:STANDARD
END:VTIMEZONE
BEGIN:VEVENT
DTSTART;TZID=Europe/Stockholm:20260305T132000
DTEND;TZID=Europe/Stockholm:20260305T135000
DTSTAMP:20260423T022812
CREATED:20251009T092626Z
LAST-MODIFIED:20251009T095144Z
UID:17701-1772716800-1772718600@tannaskroket.se
SUMMARY:Miniskoter för barn
DESCRIPTION:Kom och kör miniskoter en kul upplevelse för alla som behöver en paus från skidåkningen.\nFörboka gärna i receptionen innan och det går att boka fram till 30 min innan start.\nFrån 7 år. \nReceptionen har öppet 09.00 – 16.30.
URL:https://tannaskroket.se/event/miniskoter-for-barn-95/
LOCATION:Restaurang Arran\, Karl Johans väg 1\, Tännäs\, Härjedalen\, 846 95\, Sverige
ATTACH;FMTTYPE=image/jpeg:https://tannaskroket.se/wp-content/uploads/2022/11/62-scaled-e1705654788704.jpg
ORGANIZER;CN="T%C3%A4nn%C3%A4skr%C3%B6ket":MAILTO:bokning@tannaskroket.se
END:VEVENT
BEGIN:VEVENT
DTSTART;TZID=Europe/Stockholm:20260305T193000
DTEND;TZID=Europe/Stockholm:20260305T210000
DTSTAMP:20260423T022812
CREATED:20251030T135223Z
LAST-MODIFIED:20251030T135223Z
UID:18239-1772739000-1772744400@tannaskroket.se
SUMMARY:Tännäs Sessions - Sunnan
DESCRIPTION:Tännäs Sessions är livekonserter i liten skala – där musik\, mat och människor möts. En serie intima livekonserter med några av Sveriges mest aktuella och spännande artister. Välj mellan endast konsertbiljett\, eller konsertbiljett med fjällinspirerad middag med fokus på lokala ingredienser – en smakresa som kompletterar den musikaliska upplevelsen och gästerna får njuta av fjällen med alla sinnen. \nKlicka in på webbplatslänken nedan för att läsa om kvällens artist Sunnan och boka er biljett.
URL:https://tannaskroket.se/event/tannas-sessions-sunnan/
LOCATION:Restaurang Arran\, Karl Johans väg 1\, Tännäs\, Härjedalen\, 846 95\, Sverige
ATTACH;FMTTYPE=image/png:https://tannaskroket.se/wp-content/uploads/2025/10/Tannas-Sessions-25-DF_WIDE_SUNNAN.png
ORGANIZER;CN="T%C3%A4nn%C3%A4skr%C3%B6ket":MAILTO:bokning@tannaskroket.se
END:VEVENT
END:VCALENDAR